BEGIN:VCALENDAR
VERSION:2.0
PRODID:-//HEPNet//HEPNet 101 Event//EN
BEGIN:VEVENT
UID:hepnet101-20260507T120000
DTSTAMP:20260423T120000Z
DTSTART:20260507T160000Z
DTEND:20260507T170000Z
SUMMARY:HEPNet 101
DESCRIPTION:Learn more about HEPNet Membership. For interested and current members.
LOCATION:Google Meet
URL:https://meet.google.com/pyz-yzur-dfj
END:VEVENT
END:VCALENDAR